BEGIN:VCALENDAR
VERSION:2.0
PRODID:-//Philippine Association of Secretaries and Administrative Professionals, Inc. - ECPv6.15.17.1//NONSGML v1.0//EN
CALSCALE:GREGORIAN
METHOD:PUBLISH
X-WR-CALNAME:Philippine Association of Secretaries and Administrative Professionals, Inc.
X-ORIGINAL-URL:https://philsec.org
X-WR-CALDESC:Events for Philippine Association of Secretaries and Administrative Professionals, Inc.
REFRESH-INTERVAL;VALUE=DURATION:PT1H
X-Robots-Tag:noindex
X-PUBLISHED-TTL:PT1H
BEGIN:VTIMEZONE
TZID:Asia/Shanghai
BEGIN:STANDARD
TZOFFSETFROM:+0800
TZOFFSETTO:+0800
TZNAME:CST
DTSTART:20250101T000000
END:STANDARD
END:VTIMEZONE
BEGIN:VEVENT
DTSTART;TZID=Asia/Shanghai:20260429T080000
DTEND;TZID=Asia/Shanghai:20260429T183000
DTSTAMP:20260423T203550
CREATED:20260313T124503Z
LAST-MODIFIED:20260313T155508Z
UID:2385-1777449600-1777487400@philsec.org
SUMMARY:PAS Admin Pro-Summit(Apr. 29\, 2026)
DESCRIPTION:EVENT PROGRAM_ ADMINISTRATIVE PROFESSIONALS SUMMIT 2026 \n\n\n \nDownload Registration Form:https://drive.google.com/file/d/1s0PnfogBCWtBhq_uD1Rxkf8X7M0klGXY/view?usp=sharing
URL:https://philsec.org/event/pas-admin-pro-summitapr-29-2026/
LOCATION:Marriott Hotel\, Manila\, Fourth District\, 2 Resorts Drive Pasay City\, Manila\, 1309 Metro Manila\, Manila\, Philippines
ATTACH;FMTTYPE=image/png:https://philsec.org/wp-content/uploads/2026/03/1773280529457blob.png
END:VEVENT
END:VCALENDAR